BEGIN:VCALENDAR
VERSION:2.0
CALSCALE:GREGORIAN
PRODID:-//Diputació de Barcelona//DibaCMS//EN
BEGIN:VEVENT
UID:3479
DTSTAMP:20260422T222026
DTSTART:20180105T110000
DTEND:20180105T130000
SUMMARY:ESQUELLOTS
LOCATION:Plaça Serralavella 
METHOD:PUBLISH
X-WR-CALNAME:ullastrell@ullastrell.cat
X-WR-TIMEZONE:Europe/Madrid
DESCRIPTION:Divendres 5 de gener, a les 11 del matí us esperem a tots, petits i grans, a fer els esquellots per avisar als Reis Mags que no s'oblidin de passar per Ullastrell. 

Heu de portar llaunes buides i un bastó que no tingui punxes, per picar ben fort!!

URI:https://www.ullastrell.cat/actualitat/agenda/esquellots.html
CLASS:PUBLIC
END:VEVENT
END:VCALENDAR
