BEGIN:VCALENDAR
VERSION:2.0
CALSCALE:GREGORIAN
PRODID:-//Diputació de Barcelona//DibaCMS//EN
BEGIN:VEVENT
UID:3480
DTSTAMP:20260423T061519
DTSTART:20180112T163000
DTEND:20180112T203000
SUMMARY:Deixalleria Mòbil
LOCATION:Per ordre:
Pl. Lluís Companys es modifica per les obres i es reubica al pàrquing de sota l'Escola Vella
Pl. Serralavella 
C/ Arquitecte Alsius  
METHOD:PUBLISH
X-WR-CALNAME:ullastrell@ullastrell.cat
X-WR-TIMEZONE:Europe/Madrid
DESCRIPTION:ATENCIÓ: Aquest més de gener, excepcionalment vindrà divendres 12 a la tarda ja que el primer dissabte de mes és festiu.

La deixalleria mòbil és un servei gratuït que s'ofereix cada primer dissabte de mes, on la gent pot anar en els llocs esmentats i un camió recull tots aquells materials que no es poden dipositar en els contenidor habituals, tals com, pintures, vernissos, esprais, radiografies, olis de cotxe i de cuina, petits electrodomèstics, ferralla informàtica etc.

URI:https://www.ullastrell.cat/actualitat/agenda/3480-deixalleria-mobil.html
CLASS:PUBLIC
END:VEVENT
END:VCALENDAR
