BEGIN:VCALENDAR
VERSION:2.0
CALSCALE:GREGORIAN
PRODID:-//Diputació de Barcelona//DibaCMS//EN
BEGIN:VEVENT
UID:3481
DTSTAMP:20260422T210224
DTSTART:20171230T110000
DTEND:20171230T140000
SUMMARY:Exposició: Pessebres de Can Palet
LOCATION:C/ Serra 37 08231 Ullastrell
METHOD:PUBLISH
X-WR-CALNAME:ullastrell@ullastrell.cat
X-WR-TIMEZONE:Europe/Madrid
DESCRIPTION:Exposició fotogràfica i poètica

Fotos dels pessebres realitzats per Josep Palet i poemes de la Mª Carme Puig

Mostra retrospectiva del 1975 al 2017

URI:https://www.ullastrell.cat/actualitat/agenda/exposicio-pessebres-de-can-palet.html
CLASS:PUBLIC
END:VEVENT
END:VCALENDAR
