BEGIN:VCALENDAR
VERSION:2.0
CALSCALE:GREGORIAN
PRODID:-//Diputació de Barcelona//DibaCMS//EN
BEGIN:VEVENT
UID:3484
DTSTAMP:20260423T050042
DTSTART:20180114T183000
DTEND:20180114T200000
SUMMARY:29ª Mostra de Teatre: EL DRET A ESCOLLIR
LOCATION:C/ Josep Fornell, s/n 08231 Ullastrell
METHOD:PUBLISH
X-WR-CALNAME:ullastrell@ullastrell.cat
X-WR-TIMEZONE:Europe/Madrid
DESCRIPTION:Grup Naltrus.

URI:https://www.ullastrell.cat/actualitat/agenda/29a-mostra-de-teatre-el-dret-a-escollir.html
CLASS:PUBLIC
END:VEVENT
END:VCALENDAR
