BEGIN:VCALENDAR
VERSION:2.0
CALSCALE:GREGORIAN
PRODID:-//Diputació de Barcelona//DibaCMS//EN
BEGIN:VEVENT
UID:3496
DTSTAMP:20260422T193853
DTSTART:20180118T180000
DTEND:20180118T210000
SUMMARY:La qualitat en l'oli d'oliva. Sanitat i maneig en conreu de l'olivera
LOCATION:C/ Josep Fornell, s/n 08231 Ullastrell
METHOD:PUBLISH
X-WR-CALNAME:ullastrell@ullastrell.cat
X-WR-TIMEZONE:Europe/Madrid
DESCRIPTION:Jornada Tècnica

ULLASTRELL, dijous 18 de gener de 2017

URI:https://www.ullastrell.cat/actualitat/agenda/la-qualitat-en-loli-doliva-sanitat-i-maneig-en-conreu-de-lolivera.html
CLASS:PUBLIC
END:VEVENT
END:VCALENDAR
