BEGIN:VCALENDAR
VERSION:2.0
CALSCALE:GREGORIAN
PRODID:-//Diputació de Barcelona//DibaCMS//EN
BEGIN:VEVENT
UID:3497
DTSTAMP:20260422T191029
DTSTART:20180121T100000
DTEND:20180121T150000
SUMMARY:VII Fira de l'Oli
LOCATION:Lloc: Plaça Montmany s/n 
METHOD:PUBLISH
X-WR-CALNAME:ullastrell@ullastrell.cat
X-WR-TIMEZONE:Europe/Madrid
DESCRIPTION:La Fira es celebrarà a la Plaça Joan Montmany i al carrer de la Serra d’Ullastrell.

URI:https://www.ullastrell.cat/actualitat/agenda/vii-fira-de-loli.html
CLASS:PUBLIC
END:VEVENT
END:VCALENDAR
