BEGIN:VCALENDAR
VERSION:2.0
CALSCALE:GREGORIAN
PRODID:-//Diputació de Barcelona//DibaCMS//EN
BEGIN:VEVENT
UID:3499
DTSTAMP:20260422T223554
DTSTART:20180218T183000
DTEND:20180218T203000
SUMMARY:29ª Mostra de Teatre: DEMÀ CONEIXERÀS EL KLEIN
LOCATION:C/ Josep Fornell, s/n 08231 Ullastrell
METHOD:PUBLISH
X-WR-CALNAME:ullastrell@ullastrell.cat
X-WR-TIMEZONE:Europe/Madrid
DESCRIPTION:Grup Sala Cabanes

URI:https://www.ullastrell.cat/actualitat/agenda/29a-mostra-de-teatre-dema-coneixeras-el-klein.html
CLASS:PUBLIC
END:VEVENT
END:VCALENDAR
