BEGIN:VCALENDAR
VERSION:2.0
CALSCALE:GREGORIAN
PRODID:-//Diputació de Barcelona//DibaCMS//EN
BEGIN:VEVENT
UID:3500
DTSTAMP:20260423T065151
DTSTART:20180318T183000
DTEND:20180318T203000
SUMMARY:29ª Mostra de Teatre: SHANDA
LOCATION:C/ Josep Fornell, s/n 08231 Ullastrell
METHOD:PUBLISH
X-WR-CALNAME:ullastrell@ullastrell.cat
X-WR-TIMEZONE:Europe/Madrid
DESCRIPTION:Obra de teatre protagonitzada per l'entitat local GATU

URI:https://www.ullastrell.cat/actualitat/agenda/29a-mostra-de-teatre-shanda.html
CLASS:PUBLIC
END:VEVENT
END:VCALENDAR
