BEGIN:VCALENDAR
VERSION:2.0
CALSCALE:GREGORIAN
PRODID:-//Diputació de Barcelona//DibaCMS//EN
BEGIN:VEVENT
UID:3501
DTSTAMP:20260422T191301
DTSTART:20180415T190000
DTEND:20180415T210000
SUMMARY:29ª Mostra de Teatre: MENTIDERS
LOCATION:C/ Josep Fornell, s/n 08231 Ullastrell
METHOD:PUBLISH
X-WR-CALNAME:ullastrell@ullastrell.cat
X-WR-TIMEZONE:Europe/Madrid
DESCRIPTION:Cia. Faràndula

URI:https://www.ullastrell.cat/actualitat/agenda/29a-mostra-de-teatre-mentiders.html
CLASS:PUBLIC
END:VEVENT
END:VCALENDAR
