BEGIN:VCALENDAR
VERSION:2.0
CALSCALE:GREGORIAN
PRODID:-//Diputació de Barcelona//DibaCMS//EN
BEGIN:VEVENT
UID:3502
DTSTAMP:20260422T105004
DTSTART:20180513T190000
DTEND:20180513T210000
SUMMARY:29ª Mostra de Teatre: LA CANÇÓ DE LES MENTIDES
LOCATION:C/ Josep Fornell, s/n 08231 Ullastrell
METHOD:PUBLISH
X-WR-CALNAME:ullastrell@ullastrell.cat
X-WR-TIMEZONE:Europe/Madrid
DESCRIPTION:Grup Paranys

URI:https://www.ullastrell.cat/actualitat/agenda/29a-mostra-de-teatre-la-canco-de-les-mentides.html
CLASS:PUBLIC
END:VEVENT
END:VCALENDAR
