BEGIN:VCALENDAR
VERSION:2.0
CALSCALE:GREGORIAN
PRODID:-//Diputació de Barcelona//DibaCMS//EN
BEGIN:VEVENT
UID:3503
DTSTAMP:20260422T192203
DTSTART:20180610T190000
DTEND:20180610T210000
SUMMARY:29ª Mostra de Teatre: FULLMONTI
LOCATION:C/ Josep Fornell, s/n 08231 Ullastrell
METHOD:PUBLISH
X-WR-CALNAME:ullastrell@ullastrell.cat
X-WR-TIMEZONE:Europe/Madrid
DESCRIPTION:Grup Kakaiba

URI:https://www.ullastrell.cat/actualitat/agenda/29a-mostra-de-teatre-fullmonti.html
CLASS:PUBLIC
END:VEVENT
END:VCALENDAR
