BEGIN:VCALENDAR
VERSION:2.0
CALSCALE:GREGORIAN
PRODID:-//Diputació de Barcelona//DibaCMS//EN
BEGIN:VEVENT
UID:3507
DTSTAMP:20260422T205755
DTSTART:20180124T200000
DTEND:20180124T200000
SUMMARY:PLE ORDINARI
LOCATION:C/ Serra, 17 08231 Ullastrell
METHOD:PUBLISH
X-WR-CALNAME:ullastrell@ullastrell.cat
X-WR-TIMEZONE:Europe/Madrid
DESCRIPTION:Sessió plenària ordinària.

Obert a tothom.

També es pot seguir en directe pel canal You Tube de l'Ajuntament d'Ullastrell.

URI:https://www.ullastrell.cat/actualitat/agenda/3507-ple-ordinari.html
CLASS:PUBLIC
END:VEVENT
END:VCALENDAR
