BEGIN:VCALENDAR
VERSION:2.0
CALSCALE:GREGORIAN
PRODID:-//Diputació de Barcelona//DibaCMS//EN
BEGIN:VEVENT
UID:3508
DTSTAMP:20260423T044702
DTSTART:20180119T163000
DTEND:20180119T000000
SUMMARY:Berenar Popular amb Pa amb Oli i Sucre
LOCATION:Lloc: A la Plaça dels Infants. 
METHOD:PUBLISH
X-WR-CALNAME:ullastrell@ullastrell.cat
X-WR-TIMEZONE:Europe/Madrid
DESCRIPTION:Sortint de l'Escola: Berenar popular amb Pa amb Oli i Sucre.

Col·labora: Associació Muctisectorial d'Empresaris d'Ullastrell

URI:https://www.ullastrell.cat/actualitat/agenda/berenar-popular-amb-pa-amb-oli-i-sucre.html
CLASS:PUBLIC
END:VEVENT
END:VCALENDAR
