BEGIN:VCALENDAR
VERSION:2.0
CALSCALE:GREGORIAN
PRODID:-//Diputació de Barcelona//DibaCMS//EN
BEGIN:VEVENT
UID:3509
DTSTAMP:20260422T203310
DTSTART:20180111T000000
DTEND:20180111T000000
SUMMARY:Inauguració amb el Sr. Marc Ribas (Cuines Tv3)
LOCATION:C/ Josep Fornell, s/n 08231 Ullastrell
METHOD:PUBLISH
X-WR-CALNAME:ullastrell@ullastrell.cat
X-WR-TIMEZONE:Europe/Madrid
DESCRIPTION:Inauguració amb el Sr. Mrc Ribas (Cuines Tv3)

URI:https://www.ullastrell.cat/actualitat/agenda/inauguracio-amb-el-sr-marc-ribas-cuines-tv3.html
CLASS:PUBLIC
END:VEVENT
END:VCALENDAR
