BEGIN:VCALENDAR
VERSION:2.0
CALSCALE:GREGORIAN
PRODID:-//Diputació de Barcelona//DibaCMS//EN
BEGIN:VEVENT
UID:3510
DTSTAMP:20260422T193444
DTSTART:20180119T200000
DTEND:20180119T000000
SUMMARY:Inauguració amb el Sr. Marc Ribas (Cuines Tv3)
LOCATION:C/ Josep Fornell, s/n 08231 Ullastrell
METHOD:PUBLISH
X-WR-CALNAME:ullastrell@ullastrell.cat
X-WR-TIMEZONE:Europe/Madrid
DESCRIPTION:Inauguració amb el Sr. Marc Ribas (Cuines Tv3)

URI:https://www.ullastrell.cat/actualitat/agenda/3510-inauguracio-amb-el-sr-marc-ribas-cuines-tv3.html
CLASS:PUBLIC
END:VEVENT
END:VCALENDAR
