BEGIN:VCALENDAR
VERSION:2.0
CALSCALE:GREGORIAN
PRODID:-//Diputació de Barcelona//DibaCMS//EN
BEGIN:VEVENT
UID:3511
DTSTAMP:20260422T180214
DTSTART:20180119T203000
DTEND:20180119T000000
SUMMARY:"Com fer un tast d'Oli" amb el Sr. Álber Zambrano Esteve i 3er. Concurs: Tast d'Oli dels Productors Locals
LOCATION:C/ Josep Fornell, s/n 08231 Ullastrell
METHOD:PUBLISH
X-WR-CALNAME:ullastrell@ullastrell.cat
X-WR-TIMEZONE:Europe/Madrid
DESCRIPTION:20:30h Com fer un Tast d'Oli amb el Sr. Àlber Zambrano Esteve (tastador professional d'Olis)

i tot seguit: 3er. Concurs: Tast d'Oli dels Productors Locals

(Associació Productors d'Oli Ullastrell)

Hi haurà piscolabis pels assistents.

URI:https://www.ullastrell.cat/actualitat/agenda/com-fer-un-tast-doli-amb-el-sr-alber-zambrano-esteve-i-3er-concurs-tast-doli-dels-productors-locals.html
CLASS:PUBLIC
END:VEVENT
END:VCALENDAR
