BEGIN:VCALENDAR
VERSION:2.0
CALSCALE:GREGORIAN
PRODID:-//Diputació de Barcelona//DibaCMS//EN
BEGIN:VEVENT
UID:3512
DTSTAMP:20260423T062628
DTSTART:20180120T100000
DTEND:20180120T000000
SUMMARY:Excursió "Oliveres Oblidades"
LOCATION:LLoc de Sortida: Plaça Lluis Companys. 
METHOD:PUBLISH
X-WR-CALNAME:ullastrell@ullastrell.cat
X-WR-TIMEZONE:Europe/Madrid
DESCRIPTION:Passejada popular pels racons d'Ullastrell en busca de les oliveres perdudes.

Nivell fàcil.

Durada: 1 hora i 30 minuts.

Organitza: Grup de Muntanya

URI:https://www.ullastrell.cat/actualitat/agenda/excursio-oliveres-oblidades.html
CLASS:PUBLIC
END:VEVENT
END:VCALENDAR
