BEGIN:VCALENDAR
VERSION:2.0
CALSCALE:GREGORIAN
PRODID:-//Diputació de Barcelona//DibaCMS//EN
BEGIN:VEVENT
UID:3514
DTSTAMP:20260422T175542
DTSTART:20180111T000000
DTEND:20180111T000000
SUMMARY:7è. Concurs de Llançament de Pinyol d'Oliva
LOCATION:C/ Josep Fornell, s/n 08231 Ullastrell
METHOD:PUBLISH
X-WR-CALNAME:ullastrell@ullastrell.cat
X-WR-TIMEZONE:Europe/Madrid
DESCRIPTION:7è Concurs de Llançament de Pinyol d'Oliva.

Organitza: Associació Els Festucs.

Colabora:Bar Casal.

Premis: Categoria femení, masculí i infantil.

URI:https://www.ullastrell.cat/actualitat/agenda/7e-concurs-de-llancament-de-pinyol-doliva.html
CLASS:PUBLIC
END:VEVENT
END:VCALENDAR
