BEGIN:VCALENDAR
VERSION:2.0
CALSCALE:GREGORIAN
PRODID:-//Diputació de Barcelona//DibaCMS//EN
BEGIN:VEVENT
UID:3515
DTSTAMP:20260423T013659
DTSTART:20180120T200000
DTEND:20180120T000000
SUMMARY:7è Concurs de Lllançament de Pinyol d'Oliva
LOCATION:C/ Josep Fornell, s/n 08231 Ullastrell
METHOD:PUBLISH
X-WR-CALNAME:ullastrell@ullastrell.cat
X-WR-TIMEZONE:Europe/Madrid
DESCRIPTION:7è Concurs de Llançament de Pinyol d'Oliva.

Premis: Categoria femení, masculí i infantil.

Organitza: Associació Els Festucs

Col·labora: Bar Casal.

URI:https://www.ullastrell.cat/actualitat/agenda/7e-concurs-de-lllancament-de-pinyol-doliva.html
CLASS:PUBLIC
END:VEVENT
END:VCALENDAR
