BEGIN:VCALENDAR
VERSION:2.0
CALSCALE:GREGORIAN
PRODID:-//Diputació de Barcelona//DibaCMS//EN
BEGIN:VEVENT
UID:3516
DTSTAMP:20260422T180325
DTSTART:20180121T110000
DTEND:20180121T140000
SUMMARY:Exposició Fotogràfica "Oli i l'Olivera"
LOCATION:C/ Serra 37 08231 Ullastrell
METHOD:PUBLISH
X-WR-CALNAME:ullastrell@ullastrell.cat
X-WR-TIMEZONE:Europe/Madrid
DESCRIPTION:Exposició Fotogràfica "Oli i l'Olivera"

Organitza: FOCU

URI:https://www.ullastrell.cat/actualitat/agenda/3516-exposicio-fotografica-oli-i-lolivera.html
CLASS:PUBLIC
END:VEVENT
END:VCALENDAR
