BEGIN:VCALENDAR
VERSION:2.0
CALSCALE:GREGORIAN
PRODID:-//Diputació de Barcelona//DibaCMS//EN
BEGIN:VEVENT
UID:3517
DTSTAMP:20260422T232953
DTSTART:20180121T120000
DTEND:20180121T000000
SUMMARY:Actuació Infantil: Gresca Fresca
LOCATION:
METHOD:PUBLISH
X-WR-CALNAME:ullastrell@ullastrell.cat
X-WR-TIMEZONE:Europe/Madrid
DESCRIPTION:Actuació Infantil "Companyia Deparranda"

URI:https://www.ullastrell.cat/actualitat/agenda/actuacio-infantil-gresca-fresca.html
CLASS:PUBLIC
END:VEVENT
END:VCALENDAR
