BEGIN:VCALENDAR
VERSION:2.0
CALSCALE:GREGORIAN
PRODID:-//Diputació de Barcelona//DibaCMS//EN
BEGIN:VEVENT
UID:3518
DTSTAMP:20260422T180352
DTSTART:20180121T140000
DTEND:20180121T000000
SUMMARY:Entrega de Premis 3er. Concurs Tast d'Oli.
LOCATION:Lloc: Plaça Joan Montmany. 
METHOD:PUBLISH
X-WR-CALNAME:ullastrell@ullastrell.cat
X-WR-TIMEZONE:Europe/Madrid
DESCRIPTION:Entrega de Premis del 3er. Concurs Tast d'Oli.

URI:https://www.ullastrell.cat/actualitat/agenda/entrega-de-premis-3er-concurs-tast-doli.html
CLASS:PUBLIC
END:VEVENT
END:VCALENDAR
