BEGIN:VCALENDAR
VERSION:2.0
CALSCALE:GREGORIAN
PRODID:-//Diputació de Barcelona//DibaCMS//EN
BEGIN:VEVENT
UID:3526
DTSTAMP:20260422T205930
DTSTART:20180119T163000
DTEND:20180119T170000
SUMMARY:Berenar popular amb Pa amb oli i sucre
LOCATION:Plaça dels Infants 
METHOD:PUBLISH
X-WR-CALNAME:ullastrell@ullastrell.cat
X-WR-TIMEZONE:Europe/Madrid
DESCRIPTION:Vine a berenar un tradicional pa amb oli i sucre!

Col.labora: AMEU

URI:https://www.ullastrell.cat/actualitat/agenda/3526-berenar-popular-amb-pa-amb-oli-i-sucre.html
CLASS:PUBLIC
END:VEVENT
END:VCALENDAR
