BEGIN:VCALENDAR
VERSION:2.0
CALSCALE:GREGORIAN
PRODID:-//Diputació de Barcelona//DibaCMS//EN
BEGIN:VEVENT
UID:3527
DTSTAMP:20260422T211132
DTSTART:20180119T200000
DTEND:20180119T200000
SUMMARY:Inauguració de la Fira de l'Oli amb el cuiner Marc Ribas de TV3
LOCATION:C/Josep Fornell s/n  08231 Ullastrell
METHOD:PUBLISH
X-WR-CALNAME:ullastrell@ullastrell.cat
X-WR-TIMEZONE:Europe/Madrid
DESCRIPTION:El conegut cuiner del programa "Cuines" de TV3, Marc Ribas ens farà la presentació d'aquesta edició de la Fira de l'Oli.

Us hi esperem!!

URI:https://www.ullastrell.cat/actualitat/agenda/inauguracio-de-la-fira-de-loli-amb-el-cuiner-marc-ribas-de-tv3.html
CLASS:PUBLIC
END:VEVENT
END:VCALENDAR
