BEGIN:VCALENDAR
VERSION:2.0
CALSCALE:GREGORIAN
PRODID:-//Diputació de Barcelona//DibaCMS//EN
BEGIN:VEVENT
UID:3528
DTSTAMP:20260422T203232
DTSTART:20180119T203000
DTEND:20180119T203000
SUMMARY:Com fer un tast d'oli amb Àlber Zambrano Esteve
LOCATION:C/Josep Fornell s/n  08231 Ullastrell
METHOD:PUBLISH
X-WR-CALNAME:ullastrell@ullastrell.cat
X-WR-TIMEZONE:Europe/Madrid
DESCRIPTION:Apendrem els trets principals per saber tastar un oli, al el tastador professional Sr. Alber Zambrano Esteve.

Obert a tothom.

URI:https://www.ullastrell.cat/actualitat/agenda/com-fer-un-tast-doli-amb-alber-zambrano-esteve.html
CLASS:PUBLIC
END:VEVENT
END:VCALENDAR
