BEGIN:VCALENDAR
VERSION:2.0
CALSCALE:GREGORIAN
PRODID:-//Diputació de Barcelona//DibaCMS//EN
BEGIN:VEVENT
UID:3529
DTSTAMP:20260422T210056
DTSTART:20180119T203000
DTEND:20180119T203000
SUMMARY:3r. Concurs de Tast d'oli dels Productors Locals
LOCATION:C/Josep Fornell s/n  08231 Ullastrell
METHOD:PUBLISH
X-WR-CALNAME:ullastrell@ullastrell.cat
X-WR-TIMEZONE:Europe/Madrid
DESCRIPTION:Es farà un tast de tots els olis concursants en aquesta edició.

El guanyador se sabrà diumenge al final de la Fira de l'Oli.

 

Col.labora: Ass.Productors d'Oli Ullastrell

URI:https://www.ullastrell.cat/actualitat/agenda/3r-concurs-de-tast-doli-dels-productors-locals.html
CLASS:PUBLIC
END:VEVENT
END:VCALENDAR
