BEGIN:VCALENDAR
VERSION:2.0
CALSCALE:GREGORIAN
PRODID:-//Diputació de Barcelona//DibaCMS//EN
BEGIN:VEVENT
UID:3532
DTSTAMP:20260422T222714
DTSTART:20180128T170000
DTEND:20180128T170000
SUMMARY:Assemblea socis - La Colla de la Gent Gran
LOCATION:C/ Josep Fornell, s/n 08231 Ullastrell
METHOD:PUBLISH
X-WR-CALNAME:ullastrell@ullastrell.cat
X-WR-TIMEZONE:Europe/Madrid
DESCRIPTION:Els socis de l'entitat local "La Colla de la Gent Gran" tenen una cita diumenge a la tarda a la Sala d'exposicions del Casal.

URI:https://www.ullastrell.cat/actualitat/agenda/assemblea-socis-la-colla-de-la-gent-gran.html
CLASS:PUBLIC
END:VEVENT
END:VCALENDAR
