BEGIN:VCALENDAR
VERSION:2.0
CALSCALE:GREGORIAN
PRODID:-//Diputació de Barcelona//DibaCMS//EN
BEGIN:VEVENT
UID:3533
DTSTAMP:20260422T222615
DTSTART:20180205T120000
DTEND:20180205T133000
SUMMARY:Inici classes informàtica per a gent gran
LOCATION:C/ Josep Fornell, s/n 08231 Ullastrell
METHOD:PUBLISH
X-WR-CALNAME:ullastrell@ullastrell.cat
X-WR-TIMEZONE:Europe/Madrid
DESCRIPTION:Activitat organitzada per l'entitat "La Colla de la Gent Gran"

Tots els dilluns i dimecres de 12h. a 13:30h.

***ENCARA HI HA PLACES LLIURES!!!

 

URI:https://www.ullastrell.cat/actualitat/agenda/inici-classes-informatica-per-a-gent-gran.html
CLASS:PUBLIC
END:VEVENT
END:VCALENDAR
