BEGIN:VCALENDAR
VERSION:2.0
CALSCALE:GREGORIAN
PRODID:-//Diputació de Barcelona//DibaCMS//EN
BEGIN:VEVENT
UID:3534
DTSTAMP:20260422T210153
DTSTART:20180131T190000
DTEND:20180131T190000
SUMMARY:AMPA El Cucut - XERRADA: Acompanyament emocional
LOCATION:Camí de Can Font, s/n 08231 Ullastrell
METHOD:PUBLISH
X-WR-CALNAME:ullastrell@ullastrell.cat
X-WR-TIMEZONE:Europe/Madrid
DESCRIPTION:L'AMPA El Cucut ofereix aquesta xerrada que impartirà Anna Garcia Ramirez, mare de dues filles, mestra d'educació especial i terapeuta Gestalt a Associació d'Ajuda Social Amb Tu.


	Com estic amb el meu fill/a?
	Què em passa quan plora? i quan riu?


Les emocions els meu fill/a i jo.

Us hi esperem!

URI:https://www.ullastrell.cat/actualitat/agenda/ampa-el-cucut-xerrada-acompanyament-emocional.html
CLASS:PUBLIC
END:VEVENT
END:VCALENDAR
