BEGIN:VCALENDAR
VERSION:2.0
CALSCALE:GREGORIAN
PRODID:-//Diputació de Barcelona//DibaCMS//EN
BEGIN:VEVENT
UID:3536
DTSTAMP:20260423T035421
DTSTART:20180208T170000
DTEND:20180208T180000
SUMMARY:XERRADA: Seguretat a la xarxa 
LOCATION:C/ Josep Fornell, s/n 08231 Ullastrell
METHOD:PUBLISH
X-WR-CALNAME:ullastrell@ullastrell.cat
X-WR-TIMEZONE:Europe/Madrid
DESCRIPTION:A càrrec del cos dels Mossos d'Esquadra

Biblioteca de l'escola Serralavella.

URI:https://www.ullastrell.cat/actualitat/agenda/xerrada-seguretat-a-la-xarxa-.html
CLASS:PUBLIC
END:VEVENT
END:VCALENDAR
