BEGIN:VCALENDAR
VERSION:2.0
CALSCALE:GREGORIAN
PRODID:-//Diputació de Barcelona//DibaCMS//EN
BEGIN:VEVENT
UID:3537
DTSTAMP:20260422T210355
DTSTART:20180207T170000
DTEND:20180207T183000
SUMMARY:Cinema infantil
LOCATION:C/ Josep Fornell, s/n 08231 Ullastrell
METHOD:PUBLISH
X-WR-CALNAME:ullastrell@ullastrell.cat
X-WR-TIMEZONE:Europe/Madrid
DESCRIPTION:"L'hivern i la primavera al regne de l'escampeta"

A la biblioteca.

URI:https://www.ullastrell.cat/actualitat/agenda/3537-cinema-infantil.html
CLASS:PUBLIC
END:VEVENT
END:VCALENDAR
