BEGIN:VCALENDAR
VERSION:2.0
CALSCALE:GREGORIAN
PRODID:-//Diputació de Barcelona//DibaCMS//EN
BEGIN:VEVENT
UID:3539
DTSTAMP:20260422T222143
DTSTART:20180203T090000
DTEND:20180203T133000
SUMMARY:DEIXALLERIA MÒBIL
LOCATION:
METHOD:PUBLISH
X-WR-CALNAME:ullastrell@ullastrell.cat
X-WR-TIMEZONE:Europe/Madrid
DESCRIPTION:La deixalleria mòbil és un servei gratuït on cada primer dissabte de mes, un camió situat als llocs indicats recull tots aquells materials que no correspon dipositar en els contenidors habituals, tals com, pil·les, radiografies, pintures i aerosols, petits electrodomèstics, ferralla informàtica, mòbils, olis vegetals i de cotxe, bateries, etc.

URI:https://www.ullastrell.cat/actualitat/agenda/3539-deixalleria-mobil.html
CLASS:PUBLIC
END:VEVENT
END:VCALENDAR
