BEGIN:VCALENDAR
VERSION:2.0
CALSCALE:GREGORIAN
PRODID:-//Diputació de Barcelona//DibaCMS//EN
BEGIN:VEVENT
UID:3540
DTSTAMP:20260423T051305
DTSTART:20180209T090000
DTEND:20180209T120000
SUMMARY:RUA CARNESTOLTES 
LOCATION:
METHOD:PUBLISH
X-WR-CALNAME:ullastrell@ullastrell.cat
X-WR-TIMEZONE:Europe/Madrid
DESCRIPTION:Rua de carnestoltes de l'escola Serralavella i Llar infants El Cucut

Els nens i nenes de l'escola aniran a buscar als més petits d'El Cucut i tornaran a anar a l'escola per esmorzar i ballar tots junts!

URI:https://www.ullastrell.cat/actualitat/agenda/rua-carnestoltes-.html
CLASS:PUBLIC
END:VEVENT
END:VCALENDAR
