BEGIN:VCALENDAR
VERSION:2.0
CALSCALE:GREGORIAN
PRODID:-//Diputació de Barcelona//DibaCMS//EN
BEGIN:VEVENT
UID:3542
DTSTAMP:20260423T040025
DTSTART:20180211T113000
DTEND:20180211T113000
SUMMARY:CARNESTOLTES 
LOCATION:Plaça de les Escoles 
METHOD:PUBLISH
X-WR-CALNAME:ullastrell@ullastrell.cat
X-WR-TIMEZONE:Europe/Madrid
DESCRIPTION:Ball per la mainada i concurs de disfresses per tothom!

Música amb Jaume Barri

URI:https://www.ullastrell.cat/actualitat/agenda/carnestoltes-.html
CLASS:PUBLIC
END:VEVENT
END:VCALENDAR
