BEGIN:VCALENDAR
VERSION:2.0
CALSCALE:GREGORIAN
PRODID:-//Diputació de Barcelona//DibaCMS//EN
BEGIN:VEVENT
UID:3544
DTSTAMP:20260422T222254
DTSTART:20180214T173000
DTEND:20180214T173000
SUMMARY:Conte va, conte ve,... amb Sílvia Ricart
LOCATION:C/ Josep Fornell, s/n 08231 Ullastrell
METHOD:PUBLISH
X-WR-CALNAME:ullastrell@ullastrell.cat
X-WR-TIMEZONE:Europe/Madrid
DESCRIPTION:Vine a escoltar el conte EL TRESOR MÉS GRAN a la Biblioteca municipal.

URI:https://www.ullastrell.cat/actualitat/agenda/conte-va-conte-ve-amb-silvia-ricart.html
CLASS:PUBLIC
END:VEVENT
END:VCALENDAR
