BEGIN:VCALENDAR
VERSION:2.0
CALSCALE:GREGORIAN
PRODID:-//Diputació de Barcelona//DibaCMS//EN
BEGIN:VEVENT
UID:3545
DTSTAMP:20260422T162744
DTSTART:20180222T080000
DTEND:20180222T080000
SUMMARY:Excursió Colla Gent Gran
LOCATION:
METHOD:PUBLISH
X-WR-CALNAME:ullastrell@ullastrell.cat
X-WR-TIMEZONE:Europe/Madrid
DESCRIPTION:ESCURSIÓ A SANT FELIU BUIXALLEU I BALNEARI VICHY

Sortida d’Ullastrell a les 8h.

Org. La Colla de la Gent Gran

URI:https://www.ullastrell.cat/actualitat/agenda/excursio-colla-gent-gran.html
CLASS:PUBLIC
END:VEVENT
END:VCALENDAR
