BEGIN:VCALENDAR
VERSION:2.0
CALSCALE:GREGORIAN
PRODID:-//Diputació de Barcelona//DibaCMS//EN
BEGIN:VEVENT
UID:3547
DTSTAMP:20260422T132648
DTSTART:20180307T000000
DTEND:20180311T150000
SUMMARY:FESTES DE SERRALAVELLA
LOCATION:
METHOD:PUBLISH
X-WR-CALNAME:ullastrell@ullastrell.cat
X-WR-TIMEZONE:Europe/Madrid
DESCRIPTION:Dimecres 7 de març, estem just al mig de la Quaresma i això vol dir que avui celebrem la Serralavella

No et perdis tots els detalls d'aquests dies a la www.serralavella.cat

 

 

URI:https://www.ullastrell.cat/actualitat/agenda/festes-de-serralavella.html
CLASS:PUBLIC
END:VEVENT
END:VCALENDAR
