BEGIN:VCALENDAR
VERSION:2.0
CALSCALE:GREGORIAN
PRODID:-//Diputació de Barcelona//DibaCMS//EN
BEGIN:VEVENT
UID:3548
DTSTAMP:20260422T220019
DTSTART:20180318T100000
DTEND:20180318T130000
SUMMARY:CURSA DE MUNTANYA - La Serralavella
LOCATION:
METHOD:PUBLISH
X-WR-CALNAME:ullastrell@ullastrell.cat
X-WR-TIMEZONE:Europe/Madrid
DESCRIPTION:La sortida de la cursa de Muntanya serà al carrer Serra amb Pl. J. Montmany (davant Sindicat) tot i que els dorsals i el guarda-roba els trobareu a la pista poliesportiva, al costat del Casal Cultural.

Distància:10 Km. aprox. que discorren pràcticament en la seva totalitat per terreny sense asfaltar en una zona privilegiada i de gran bellessa.

Participants: 400 màxim (no s’admetran inscripcions el mateix dia de la prova).

Preu: 12€ El preu de l’inscripció inclou avituallament de beguda en el transcurs de la cursa, així com entrepà de botifarra i beguda a l’arribada, menudalles i una bossa del corredor amb productes típics d’Ullastrell i productes cedits per empreses col.laboradores.

Org. Ass. Correviurepopular

URI:https://www.ullastrell.cat/actualitat/agenda/cursa-de-muntanya-la-serralavella.html
CLASS:PUBLIC
END:VEVENT
END:VCALENDAR
