BEGIN:VCALENDAR
VERSION:2.0
CALSCALE:GREGORIAN
PRODID:-//Diputació de Barcelona//DibaCMS//EN
BEGIN:VEVENT
UID:3551
DTSTAMP:20260422T222117
DTSTART:20180222T170000
DTEND:20180222T170000
SUMMARY:XERRADA -  Intervenció de l’optometrista en les dificultats d’aprenentatge 
LOCATION:C/ Josep Fornell, s/n 08231 Ullastrell
METHOD:PUBLISH
X-WR-CALNAME:ullastrell@ullastrell.cat
X-WR-TIMEZONE:Europe/Madrid
DESCRIPTION:

Vols conèixer quan i com intervé la visió en un bon aprenentatge ?

A càrrec de l'optimetrista Elena Mor Gras del centre COEM

A la biblioteca de l'escola

 

Org. AMPA Serralavella

URI:https://www.ullastrell.cat/actualitat/agenda/xerrada-intervencio-de-loptometrista-en-les-dificultats-daprenentatge-.html
CLASS:PUBLIC
END:VEVENT
END:VCALENDAR
