BEGIN:VCALENDAR
VERSION:2.0
CALSCALE:GREGORIAN
PRODID:-//Diputació de Barcelona//DibaCMS//EN
BEGIN:VEVENT
UID:3552
DTSTAMP:20260422T150123
DTSTART:20180221T210000
DTEND:20180221T210000
SUMMARY:Entrega premi III Concurs Literari 
LOCATION:C/ Josep Fornell, s/n 08231 Ullastrell
METHOD:PUBLISH
X-WR-CALNAME:ullastrell@ullastrell.cat
X-WR-TIMEZONE:Europe/Madrid
DESCRIPTION:El proper dimecres 21 de febrer, a les 21h., es farà entrega del Premi del III Concurs literari d’Ullastrell 2017. La passada tardor va acabar el termini d’entrega dels relats i el guanyador serà l’afortunat que rebrà un llibre electrònic. El proper dimecres doncs podrem escoltar la lectura guardonada, tot compartint una bona estona amb tots els vilatans amants de la literatura.  

URI:https://www.ullastrell.cat/actualitat/agenda/entrega-premi-iii-concurs-literari-.html
CLASS:PUBLIC
END:VEVENT
END:VCALENDAR
