BEGIN:VCALENDAR
VERSION:2.0
CALSCALE:GREGORIAN
PRODID:-//Diputació de Barcelona//DibaCMS//EN
BEGIN:VEVENT
UID:3553
DTSTAMP:20260422T220255
DTSTART:20180224T170000
DTEND:20180224T203000
SUMMARY:Vine a donar sang!
LOCATION:Sala Exposicions del Casal 
METHOD:PUBLISH
X-WR-CALNAME:ullastrell@ullastrell.cat
X-WR-TIMEZONE:Europe/Madrid
DESCRIPTION:Vine a donar sang, amb una vegada no n'hi ha prou!

URI:https://www.ullastrell.cat/actualitat/agenda/3553-vine-a-donar-sang.html
CLASS:PUBLIC
END:VEVENT
END:VCALENDAR
