BEGIN:VCALENDAR
VERSION:2.0
CALSCALE:GREGORIAN
PRODID:-//Diputació de Barcelona//DibaCMS//EN
BEGIN:VEVENT
UID:3554
DTSTAMP:20260422T192103
DTSTART:20180221T170000
DTEND:20180221T170000
SUMMARY:LABORATORIS DE LECTURA - El llop ha tornat
LOCATION:C/ Josep Fornell, s/n 08231 Ullastrell
METHOD:PUBLISH
X-WR-CALNAME:ullastrell@ullastrell.cat
X-WR-TIMEZONE:Europe/Madrid
DESCRIPTION:Conte + taller per a infants de 4 a 9 anys acompanyats de les seves families.

Inscripcio prèvia. Limitat a 15 infants junt amb les seves families.

 

 

URI:https://www.ullastrell.cat/actualitat/agenda/laboratoris-de-lectura-el-llop-ha-tornat.html
CLASS:PUBLIC
END:VEVENT
END:VCALENDAR
