BEGIN:VCALENDAR
VERSION:2.0
CALSCALE:GREGORIAN
PRODID:-//Diputació de Barcelona//DibaCMS//EN
BEGIN:VEVENT
UID:3556
DTSTAMP:20260422T145748
DTSTART:20180408T100000
DTEND:20180408T140000
SUMMARY:PASQÜETES - Cantada de Caramelles
LOCATION:
METHOD:PUBLISH
X-WR-CALNAME:ullastrell@ullastrell.cat
X-WR-TIMEZONE:Europe/Madrid
DESCRIPTION:Diada de Pasqüetes. Cantada de caramelles

URI:https://www.ullastrell.cat/actualitat/agenda/pasquetes-cantada-de-caramelles.html
CLASS:PUBLIC
END:VEVENT
END:VCALENDAR
