BEGIN:VCALENDAR
VERSION:2.0
CALSCALE:GREGORIAN
PRODID:-//Diputació de Barcelona//DibaCMS//EN
BEGIN:VEVENT
UID:3557
DTSTAMP:20260422T125554
DTSTART:20180512T000000
DTEND:20180513T000000
SUMMARY:Participació a la Fira Modernista de Terrassa
LOCATION:
METHOD:PUBLISH
X-WR-CALNAME:ullastrell@ullastrell.cat
X-WR-TIMEZONE:Europe/Madrid
DESCRIPTION:Ullastrell, és vila convidada a participar de la Fira Modernista de Terrassa.

Podreu trobar la parada de l'Ajuntament a la Raval de Montserrat i altres parades de productors locals entre les diferents zones de paradistes.

URI:https://www.ullastrell.cat/actualitat/agenda/3557-participacio-a-la-fira-modernista-de-terrassa.html
CLASS:PUBLIC
END:VEVENT
END:VCALENDAR
