BEGIN:VCALENDAR
VERSION:2.0
CALSCALE:GREGORIAN
PRODID:-//Diputació de Barcelona//DibaCMS//EN
BEGIN:VEVENT
UID:3560
DTSTAMP:20260422T175001
DTSTART:20180301T200000
DTEND:20180301T200000
SUMMARY:Xerrada/Col·loqui amb el Conseller Josep Rull
LOCATION:C/ Josep Fornell, s/n 08231 Ullastrell
METHOD:PUBLISH
X-WR-CALNAME:ullastrell@ullastrell.cat
X-WR-TIMEZONE:Europe/Madrid
DESCRIPTION:El grup municipal del PDeCat us convida a assisitir a la xerrada-col.loqui que oferirà el Conseller Josep Rull.

Al finalitzar l'acte hi haurà piscolabis per tothom.

URI:https://www.ullastrell.cat/actualitat/agenda/xerradacolloqui-amb-el-conseller-josep-rull.html
CLASS:PUBLIC
END:VEVENT
END:VCALENDAR
