BEGIN:VCALENDAR
VERSION:2.0
CALSCALE:GREGORIAN
PRODID:-//Diputació de Barcelona//DibaCMS//EN
BEGIN:VEVENT
UID:3562
DTSTAMP:20260422T191226
DTSTART:20180219T000000
DTEND:20180219T000000
SUMMARY:Després de 33 anys treballant a l'Ajuntament, la Dolors Moragas es jubila
LOCATION:
METHOD:PUBLISH
X-WR-CALNAME:ullastrell@ullastrell.cat
X-WR-TIMEZONE:Europe/Madrid
DESCRIPTION:
URI:https://www.ullastrell.cat/actualitat/agenda/despres-de-33-anys-treballant-a-lajuntament-la-dolors-moragas-es-jubila.html
CLASS:PUBLIC
END:VEVENT
END:VCALENDAR
