BEGIN:VCALENDAR
VERSION:2.0
CALSCALE:GREGORIAN
PRODID:-//Diputació de Barcelona//DibaCMS//EN
BEGIN:VEVENT
UID:3570
DTSTAMP:20260422T175431
DTSTART:20180306T100000
DTEND:20180306T100000
SUMMARY:Cursos de Català a Ullastrell
LOCATION:
METHOD:PUBLISH
X-WR-CALNAME:ullastrell@ullastrell.cat
X-WR-TIMEZONE:Europe/Madrid
DESCRIPTION:Voleu aprendre català? Necessiteu guanyar fluïdesa escrivint català? Teniu dubtes quan escriviu missatges de whatsapp?

URI:https://www.ullastrell.cat/actualitat/agenda/cursos-de-catala-a-ullastrell.html
CLASS:PUBLIC
END:VEVENT
END:VCALENDAR
