BEGIN:VCALENDAR
VERSION:2.0
CALSCALE:GREGORIAN
PRODID:-//Diputació de Barcelona//DibaCMS//EN
BEGIN:VEVENT
UID:3573
DTSTAMP:20260423T133719
DTSTART:20180310T193000
DTEND:20180310T193000
SUMMARY:TROBADA DE CANT CORAL
LOCATION:Plaça de l'església, 2 08231 Ullastrell
METHOD:PUBLISH
X-WR-CALNAME:ullastrell@ullastrell.cat
X-WR-TIMEZONE:Europe/Madrid
DESCRIPTION:Concert amb les corals:


	Coral Flor d'Espigol, del Rosselló
	Agrupació Coral de Matadepera
	Cor de Sant Martí, de Viladecavalls
	Coral d'Ullastrell


URI:https://www.ullastrell.cat/actualitat/agenda/trobada-de-cant-coral.html
CLASS:PUBLIC
END:VEVENT
END:VCALENDAR
