BEGIN:VCALENDAR
VERSION:2.0
CALSCALE:GREGORIAN
PRODID:-//Diputació de Barcelona//DibaCMS//EN
BEGIN:VEVENT
UID:3574
DTSTAMP:20260422T201522
DTSTART:20180310T120000
DTEND:20180311T140000
SUMMARY:EXPOSICIÓ - 2ª Trobada d'Sketchers
LOCATION:C/ Serra 37 08231 Ullastrell
METHOD:PUBLISH
X-WR-CALNAME:ullastrell@ullastrell.cat
X-WR-TIMEZONE:Europe/Madrid
DESCRIPTION:Dissabte 10 a les 12h. s'inaugura l'exposició dels dibuixos realitzats durant la Fira de l'Oli, al gener 2018

URI:https://www.ullastrell.cat/actualitat/agenda/exposicio-2a-trobada-dsketchers.html
CLASS:PUBLIC
END:VEVENT
END:VCALENDAR
