BEGIN:VCALENDAR
VERSION:2.0
CALSCALE:GREGORIAN
PRODID:-//Diputació de Barcelona//DibaCMS//EN
BEGIN:VEVENT
UID:3575
DTSTAMP:20260422T174706
DTSTART:20180309T213000
DTEND:20180309T213000
SUMMARY:NIT DE JAZZ - Vigorous, contemporary world jazz
LOCATION:C/Josep Fornell s/n  08231 Ullastrell
METHOD:PUBLISH
X-WR-CALNAME:ullastrell@ullastrell.cat
X-WR-TIMEZONE:Europe/Madrid
DESCRIPTION:Música jazz en el Bar del Casal amb:


	Ariel Vigo, saxo alt
	Salvador Toscano, bateria
	Matías Míguez, baix elèctric


URI:https://www.ullastrell.cat/actualitat/agenda/nit-de-jazz-vigorous-contemporary-world-jazz.html
CLASS:PUBLIC
END:VEVENT
END:VCALENDAR
